BEGIN:VCALENDAR
VERSION:2.0
PRODID:-//Sangha Education Center - ECPv6.15.20//NONSGML v1.0//EN
CALSCALE:GREGORIAN
METHOD:PUBLISH
X-WR-CALNAME:Sangha Education Center
X-ORIGINAL-URL:https://sanghacenter.org
X-WR-CALDESC:Events for Sangha Education Center
REFRESH-INTERVAL;VALUE=DURATION:PT1H
X-Robots-Tag:noindex
X-PUBLISHED-TTL:PT1H
BEGIN:VTIMEZONE
TZID:America/New_York
BEGIN:DAYLIGHT
TZOFFSETFROM:-0500
TZOFFSETTO:-0400
TZNAME:EDT
DTSTART:20220313T070000
END:DAYLIGHT
BEGIN:STANDARD
TZOFFSETFROM:-0400
TZOFFSETTO:-0500
TZNAME:EST
DTSTART:20221106T060000
END:STANDARD
BEGIN:DAYLIGHT
TZOFFSETFROM:-0500
TZOFFSETTO:-0400
TZNAME:EDT
DTSTART:20230312T070000
END:DAYLIGHT
BEGIN:STANDARD
TZOFFSETFROM:-0400
TZOFFSETTO:-0500
TZNAME:EST
DTSTART:20231105T060000
END:STANDARD
BEGIN:DAYLIGHT
TZOFFSETFROM:-0500
TZOFFSETTO:-0400
TZNAME:EDT
DTSTART:20240310T070000
END:DAYLIGHT
BEGIN:STANDARD
TZOFFSETFROM:-0400
TZOFFSETTO:-0500
TZNAME:EST
DTSTART:20241103T060000
END:STANDARD
END:VTIMEZONE
BEGIN:VEVENT
DTSTART;TZID=America/New_York:20230617T110000
DTEND;TZID=America/New_York:20230617T130000
DTSTAMP:20260423T052856
CREATED:20230206T170143Z
LAST-MODIFIED:20230606T142559Z
UID:10000640-1686999600-1687006800@sanghacenter.org
SUMMARY:Preserve Appreciation Day
DESCRIPTION:Our Project Stewardship program teens and young adults will enjoy time together on a guided nature walk at Mill Pond Preserve (Bellmore/Wantagh). We will learn about the history of this special place in relation to this area of the South Shore. On our walk\, we can apply the Forest Bathing skills we have practiced on the Jericho Preserve and apply them to new\, natural surroundings and take in life all around us. We encourage our young people to make these nature connections more regularly\, integrating these sensory experiences into their lives for increased health and well-being. We will conclude with time for socialization during lunch at Stella’s (next door to the preserve). Young people are to be dropped off and picked up between Stella’s and Mill Pond Preserve (along Merrick Road). All are welcome to join us!  \n\n\n\n\n\n\n\nRegister\n\n\n\nIf you are already a member of our Project Stewardship program\, please register using the “Member” registration below. If you would like to become a member\, please add both the “Project Stewardship Program” and “Member” registration to your cart. If you would simply like to join us for a single session\, please purchase the “Standard” registration below. You can then add additional sessions to your cart. \n\n\n\n				\n					\n					\n					Member Registration\n				\n				$0.00\n				\n				Add to cart\n			\n				\n					\n					\n					Standard Registration\n				\n				$60.00\n				\n				Add to cart\n			\n				\n					\n					\n					Project Stewardship Program\n				\n				$600.00 – $1\,200.00Price range: $600.00 through $1\,200.00\n				\n				Select options
URL:https://sanghacenter.org/workshop/preserve-appreciation/
LOCATION:Stella’s Pizza Next To Mill Pond Preserve\, 2831 Merrick Road\, Bellmore\, NY\, 11710
CATEGORIES:Project Stewardship
ATTACH;FMTTYPE=image/jpeg:https://sanghacenter.org/wp-content/uploads/hydrangeas_daisies_flowers_mill_pond_1280x1280.jpg
ORGANIZER;CN="Christine Keller":MAILTO:christine@sanghacenter.org
END:VEVENT
END:VCALENDAR