BEGIN:VCALENDAR
VERSION:2.0
PRODID:-//Sangha Education Center - ECPv6.15.20//NONSGML v1.0//EN
CALSCALE:GREGORIAN
METHOD:PUBLISH
X-ORIGINAL-URL:https://sanghacenter.org
X-WR-CALDESC:Events for Sangha Education Center
REFRESH-INTERVAL;VALUE=DURATION:PT1H
X-Robots-Tag:noindex
X-PUBLISHED-TTL:PT1H
BEGIN:VTIMEZONE
TZID:America/New_York
BEGIN:DAYLIGHT
TZOFFSETFROM:-0500
TZOFFSETTO:-0400
TZNAME:EDT
DTSTART:20210314T070000
END:DAYLIGHT
BEGIN:STANDARD
TZOFFSETFROM:-0400
TZOFFSETTO:-0500
TZNAME:EST
DTSTART:20211107T060000
END:STANDARD
BEGIN:DAYLIGHT
TZOFFSETFROM:-0500
TZOFFSETTO:-0400
TZNAME:EDT
DTSTART:20220313T070000
END:DAYLIGHT
BEGIN:STANDARD
TZOFFSETFROM:-0400
TZOFFSETTO:-0500
TZNAME:EST
DTSTART:20221106T060000
END:STANDARD
BEGIN:DAYLIGHT
TZOFFSETFROM:-0500
TZOFFSETTO:-0400
TZNAME:EDT
DTSTART:20230312T070000
END:DAYLIGHT
BEGIN:STANDARD
TZOFFSETFROM:-0400
TZOFFSETTO:-0500
TZNAME:EST
DTSTART:20231105T060000
END:STANDARD
END:VTIMEZONE
BEGIN:VEVENT
DTSTART;TZID=America/New_York:20220917T090000
DTEND;TZID=America/New_York:20220917T110000
DTSTAMP:20260423T052650
CREATED:20220909T183527Z
LAST-MODIFIED:20220914T195624Z
UID:10000714-1663405200-1663412400@sanghacenter.org
SUMMARY:Friends of the Bay – Coastal Cleanup
DESCRIPTION:Photo by Antoine GIRET on Unsplash\n\n\n\nOur Project Stewardship young adult group will be partnering with Friends of the Bay to participate with people around the globe for Ocean Conservancy’s International Coastal Clean-Up. During this outing our young people and others will work together to clean-up the beach area along the North Shore between Oyster Bay and Cold Spring Harbor. We will contribute to positive environmental impact and the protection of wildlife who often ingest the plastics found on the beaches and in our waters. Those interested can complete data sheets to provide insights on debris findings to Ocean Conservancy. We are grateful to Friends of the Bay for visiting with us this summer and are happy to collaborate. Participants may bring water\, snack and sunblock. You may also bring a towel and/or beach chair\, if you would like. \n\n\n\n\n\nWe will meet at Stehli Beach (see below). Please contact Christine Keller’s cell at 516-384-9205 if you have difficulty finding the beach. \n\n\n\n\n\nRegister\n\n\n\nIf you are already a member of our Project Stewardship program\, please register using the “Member” registration below. If you would like to become a member\, please add both the “Project Stewardship Program” and “Member” registration to your cart. If you would simply like to join us for a single session\, please purchase the “Standard” registration below. You can then add additional sessions to your cart. \n\n\n\n				\n					\n					\n					Standard Registration\n				\n				$50.00\n				\n				Add to cart\n			\n				\n					\n					\n					Member Registration\n				\n				$0.00\n				\n				Add to cart\n			\n				\n					\n					\n					Project Stewardship Program\n				\n				$600.00 – $1\,200.00Price range: $600.00 through $1\,200.00\n				\n				Select options
URL:https://sanghacenter.org/workshop/friends-of-the-bay-coastal-cleanup/
LOCATION:Stehli Beach\, 10 Bayville Ave\, Bayville\, NY\, 11709\, United States
CATEGORIES:Project Stewardship
ATTACH;FMTTYPE=image/jpeg:https://sanghacenter.org/wp-content/uploads/beach_trash_antoine-giret-7_TSzqJms4w-unsplash-scaled.jpeg
ORGANIZER;CN="Christine Keller":MAILTO:christine@sanghacenter.org
END:VEVENT
END:VCALENDAR