BEGIN:VCALENDAR
VERSION:2.0
PRODID:-//Sangha Education Center - ECPv6.15.20//NONSGML v1.0//EN
CALSCALE:GREGORIAN
METHOD:PUBLISH
X-ORIGINAL-URL:https://sanghacenter.org
X-WR-CALDESC:Events for Sangha Education Center
REFRESH-INTERVAL;VALUE=DURATION:PT1H
X-Robots-Tag:noindex
X-PUBLISHED-TTL:PT1H
BEGIN:VTIMEZONE
TZID:America/New_York
BEGIN:DAYLIGHT
TZOFFSETFROM:-0500
TZOFFSETTO:-0400
TZNAME:EDT
DTSTART:20250309T070000
END:DAYLIGHT
BEGIN:STANDARD
TZOFFSETFROM:-0400
TZOFFSETTO:-0500
TZNAME:EST
DTSTART:20251102T060000
END:STANDARD
BEGIN:DAYLIGHT
TZOFFSETFROM:-0500
TZOFFSETTO:-0400
TZNAME:EDT
DTSTART:20260308T070000
END:DAYLIGHT
BEGIN:STANDARD
TZOFFSETFROM:-0400
TZOFFSETTO:-0500
TZNAME:EST
DTSTART:20261101T060000
END:STANDARD
BEGIN:DAYLIGHT
TZOFFSETFROM:-0500
TZOFFSETTO:-0400
TZNAME:EDT
DTSTART:20270314T070000
END:DAYLIGHT
BEGIN:STANDARD
TZOFFSETFROM:-0400
TZOFFSETTO:-0500
TZNAME:EST
DTSTART:20271107T060000
END:STANDARD
END:VTIMEZONE
BEGIN:VEVENT
DTSTART;TZID=America/New_York:20260711T130000
DTEND;TZID=America/New_York:20260711T150000
DTSTAMP:20260421T174421
CREATED:20260128T071110Z
LAST-MODIFIED:20260129T044032Z
UID:10000890-1783774800-1783782000@sanghacenter.org
SUMMARY:Introduction to Historic Malcolm House and the Underground Railroad on Long Island
DESCRIPTION:Photo by Clint Bustrillos on Unsplash\n\n\n\nAt the 250th anniversary of America’s independence from England\, we are happy to introduce Long Island History in Your Own Backyard to the Long Island community! At Sangha Education Center\, we value the opportunity to learn from the wisdom of those who came before us through exposure to our local history. In learning from history\, we can better understand ourselves in the present\, recognizing the forces\, choices\, and circumstances that brought us to this moment in time. \n\n\n\nIn today’s session\, attendees will learn about the strong community bonds that existed in the web of Quaker and African American communities that were involved in abolition and the Underground Railroad on Long Island\, beginning with Jericho. \n\n\n\nMany heroes living on Long Island in the eighteenth and nineteenth centuries were instrumental in the origins of the abolitionist movement in the northern American colonies. We will learn about some of these individuals who lived on the Jericho Preserve and in Historic Malcolm House. We will share some of their histories\, stories\, and impact that will resonate and inspire us today. \n\n\n\nSangha Education Center will be offering presentations\, activities\, house and walking tours via four modules: Long Island Quakers\, The Underground Railroad on Long Island\, Historic Malcolm House\, and Women & Abolition beginning this Fall 2026. Please join us! \n\n\n\nLocation\n\n\n\n\n\nRegister\n\n\n\nContact us for family and group rates! \n\n\n\n\n\n\n\n\n\n\n\n\n\n				\n					\n					\n					Member Registration\n				\n				$0.00\n				\n				Add to cart\n			\n				\n					\n					\n					Standard Registration\n				\n				$25.00\n				\n				Add to cart
URL:https://sanghacenter.org/workshop/introduction-to-historic-malcolm-house-and-the-underground-railroad-on-long-island/
LOCATION:Sangha Education Center\, 5 Old Jericho Turnpike\, Jericho\, NY\, 11753
CATEGORIES:Long Island History in Your Own Backyard
ATTACH;FMTTYPE=image/png:https://sanghacenter.org/wp-content/uploads/Malcolm-House-Historic.png
ORGANIZER;CN="Christine Keller":MAILTO:christine@sanghacenter.org
GEO:40.7957771;-73.5378852
X-APPLE-STRUCTURED-LOCATION;VALUE=URI;X-ADDRESS=Sangha Education Center 5 Old Jericho Turnpike Jericho NY 11753;X-APPLE-RADIUS=500;X-TITLE=5 Old Jericho Turnpike:geo:-73.5378852,40.7957771
END:VEVENT
END:VCALENDAR